Workbook

Sheet For utfylling
B1: På formen | C1: På formen | D1: Kontrollerer personnummer | G1: Kontrollerer alder mot personnummer | J1: På formen | K1: På formen | L1: Hvis utskrevet? | N1: Yrkesstatus | O1: Arbeidstrening/ kurs | P1: Aktivitetstilbud | Q1: Viktigste inntektskilde | R1: Boligforhold | S1: HIV | T1: HepC | U1: LAR medikament | W1: Døgndose | X1: Foreskrivende lege | Y1: Klagerett | Z1: Foreskrives Benzo | AB1: Foreskrives Morfinstoffer | AD1: Ant.utl/uke | AE1: Ant.utl/uke overvåket | AF1: Utleverings-sted | AH1: Urin/spytt ordning | AI1: Ant prøver/uke | AJ1: Målsetting for behandling | AK1: Ansvar i Spesialisthelsetjen/LAR | AL1: Stabilt rusfri | AM1: Psykiatrisk behandling | AN1: Individuell plan | AO1: Psykoterapeutisk behandling | AQ1: Avholdt ansvarsgruppe | AR1: Alvorlig depresjon | AS1: Alvorlig angst | AT1: Vrangforest./hallusinasjon | AU1: Kroppslige skader/sykdom | AV1: Rusbruk Morfinstoff | AW1: Rusbruk Cannabis | AX1: Rusbruk Benzo | AY1: Rusbruk Sentr.stim | AZ1: Rusbruk Alkohol | BA1: Hyppighet stoff- og alkoholdbruk | BB1: Alvorlighet av stoff- og alkoholbruk | BC1: Lovbrudd | BD1: Overdose | BE1: Suicid | BF1: Brukt rusmidler siste år | BG1: Fornøyd pasient | BH1: Fornøyd utfyller | BI1: Behandlingsplan revidert? | BJ1: Hvem har deltatt i utfyllingen av statusskjemaet?
B2: dd.mm.åååå | C2: 12345678910 | E2: (M=O, K=1) | J2: dd.mm.åååå | K2: dd.mm.åååå
A3: Utfyller stilling | B3: Utfyllingsdato | C3: Personummer | D3: Kontroll | E3: Kjønn | F3: Alder | G3: Kontroll | H3: Kommune | I3: Helseforetak | J3: Inntaksdato | K3: Utskrevet dato | L3: A0 | M3: A0 - spesifiser | N3: A1a | O3: A1b | P3: A1c | Q3: A2 | R3: A3 | S3: A5a | T3: A5b | U3: A6 | V3: A6 - spesifiser | W3: A7 | X3: A8 | Y3: A9a | Z3: A9b | AA3: A9b - spesifiser | AB3: A9c | AC3: A9c - spesifiser | AD3: A10a | AE3: A10b | AF3: A10c | AG3: A10c - spesifiser | AH3: A11a | AI3: A11b | AJ3: B1a | AK3: B1b | AL3: B1c | AM3: B1d | AN3: B1e | AO3: B1f | AP3: B1f -spesifiser | AQ3: B2 | AR3: B3a | AS3: B3b | AT3: B3c | AU3: B4 | AV3: B5a | AW3: B5b | AX3: B5c | AY3: B5d | AZ3: B5e | BA3: B6 | BB3: B7 | BC3: C1 | BD3: C2 | BE3: C3 | BF3: C4 | BG3: C5a | BH3: C5b | BI3: C6 | BJ3: C7 pasient | BK3: C7 medarbeider | BL3: C7 ansvarsgruppe
D4: =IF(LEN(C4)=0," ",(IF(LEN(C4)<11,"Sjekk pers.nr.",(IF(MOD('For kontroll'!O4,1)=0,"OK","Sjekk pers.nr."))))) | G4: =IF(LEN(F4)=0," ",(IF('For kontroll'!V4=1,"OK","Sjekk alder")))
D5: =IF(LEN(C5)=0," ",(IF(LEN(C5)<11,"Sjekk pers.nr.",(IF(MOD('For kontroll'!O5,1)=0,"OK","Sjekk pers.nr."))))) | G5: =IF(LEN(F5)=0," ",(IF('For kontroll'!V5=1,"OK","Sjekk alder")))
D6: =IF(LEN(C6)=0," ",(IF(LEN(C6)<11,"Sjekk pers.nr.",(IF(MOD('For kontroll'!O6,1)=0,"OK","Sjekk pers.nr."))))) | G6: =IF(LEN(F6)=0," ",(IF('For kontroll'!V6=1,"OK","Sjekk alder")))
D7: =IF(LEN(C7)=0," ",(IF(LEN(C7)<11,"Sjekk pers.nr.",(IF(MOD('For kontroll'!O7,1)=0,"OK","Sjekk pers.nr."))))) | G7: =IF(LEN(F7)=0," ",(IF('For kontroll'!V7=1,"OK","Sjekk alder")))
D8: =IF(LEN(C8)=0," ",(IF(LEN(C8)<11,"Sjekk pers.nr.",(IF(MOD('For kontroll'!O8,1)=0,"OK","Sjekk pers.nr."))))) | G8: =IF(LEN(F8)=0," ",(IF('For kontroll'!V8=1,"OK","Sjekk alder")))
D9: =IF(LEN(C9)=0," ",(IF(LEN(C9)<11,"Sjekk pers.nr.",(IF(MOD('For kontroll'!O9,1)=0,"OK","Sjekk pers.nr."))))) | G9: =IF(LEN(F9)=0," ",(IF('For kontroll'!V9=1,"OK","Sjekk alder")))
D10: =IF(LEN(C10)=0," ",(IF(LEN(C10)<11,"Sjekk pers.nr.",(IF(MOD('For kontroll'!O10,1)=0,"OK","Sjekk pers.nr."))))) | G10: =IF(LEN(F10)=0," ",(IF('For kontroll'!V10=1,"OK","Sjekk alder")))
D11: =IF(LEN(C11)=0," ",(IF(LEN(C11)<11,"Sjekk pers.nr.",(IF(MOD('For kontroll'!O11,1)=0,"OK","Sjekk pers.nr."))))) | G11: =IF(LEN(F11)=0," ",(IF('For kontroll'!V11=1,"OK","Sjekk alder")))
D12: =IF(LEN(C12)=0," ",(IF(LEN(C12)<11,"Sjekk pers.nr.",(IF(MOD('For kontroll'!O12,1)=0,"OK","Sjekk pers.nr."))))) | G12: =IF(LEN(F12)=0," ",(IF('For kontroll'!V12=1,"OK","Sjekk alder")))
D13: =IF(LEN(C13)=0," ",(IF(LEN(C13)<11,"Sjekk pers.nr.",(IF(MOD('For kontroll'!O13,1)=0,"OK","Sjekk pers.nr."))))) | G13: =IF(LEN(F13)=0," ",(IF('For kontroll'!V13=1,"OK","Sjekk alder")))
D14: =IF(LEN(C14)=0," ",(IF(LEN(C14)<11,"Sjekk pers.nr.",(IF(MOD('For kontroll'!O14,1)=0,"OK","Sjekk pers.nr."))))) | G14: =IF(LEN(F14)=0," ",(IF('For kontroll'!V14=1,"OK","Sjekk alder")))
D15: =IF(LEN(C15)=0," ",(IF(LEN(C15)<11,"Sjekk pers.nr.",(IF(MOD('For kontroll'!O15,1)=0,"OK","Sjekk pers.nr."))))) | G15: =IF(LEN(F15)=0," ",(IF('For kontroll'!V15=1,"OK","Sjekk alder")))
... D1499: =IF(LEN(C1499)=0," ",(IF(LEN(C1499)<11,"Sjekk pers.nr.",(IF(MOD('For kontroll'!O1499,1)=0,"OK","Sjekk pers.nr."))))) | G1499: =IF(LEN(F1499)=0," ",(IF('For kontroll'!V1499=1,"OK","Sjekk alder")))

Sheet For kontroll
B1: dd.mm.ååå | C1: 11 | D1: 5 | E1: 4 | F1: 3 | G1: 2 | H1: 7 | I1: 6 | J1: 5 | K1: 4 | L1: 3 | M1: 2 | N1: 1 | AA1: Hvis utskrevet? | AC1: Yrkesstatus | AD1: Arb.tr/kurs | AE1: Aktivitetstilbud | AF1: Vikt. innt. | AG1: Boligforhold | AH1: HIV | AI1: HepC | AJ1: LAR med. | AL1: Døgndose | AN1: Foreskr. Lege | AO1: Klagerett | AP1: Foreskr.Benzo | AR1: Foreskr.Morf.st | AT1: Ant.utl/uke | AU1: AntUtl_overv | AV1: Utl.sted | AX1: Urin/spytt.ordn. | AY1: AntPr_Uke | AZ1: MålsettingForBeh | BA1: AnsvSpesLAR | BB1: StabiltRusfri | BC1: PsykiatriBeh | BD1: IndividPlan | BE1: PsykoterBeh | BG1: AvholdtAnsv.gr | BH1: Alv.depr | BI1: Alv.angst | BJ1: Vrangf./hall. | BK1: Kroppslige sk/syk | BL1: Rm Morfin | BM1: Rm Cannabis | BN1: Rm Benzo | BO1: Rm Sentr.stim | BP1: Rm Alko | BQ1: Hyppigh.rm.bruk | BR1: Alvorligh. av bruk | BS1: Lovbrudd | BT1: Overdose | BU1: Suicid | BV1: Rm brukt siste år | BW1: FornøydPas | BX1: FornøydUtf | BY1: Beh.PlanRev?
A2: Utfyller stilling | B2: Utfyllingsdato | C2: 10 | D2: 3 | E2: 7 | F2: 6 | G2: 1 | H2: 8 | I2: 9 | J2: 4 | K2: 5 | L2: 2 | M2: 1 | Q2: Kjønn(M=O, K=1) | R2: Alder | W2: Kommune | X2: Fylke | Y2: Inntaksdato | Z2: Utskrevet dato | AA2: A0 | AB2: A0 - spesifiser | AC2: A1a | AD2: A1b | AE2: A1c | AF2: A2 | AG2: A3 | AH2: A5a | AI2: A5b | AJ2: A6 | AK2: A6 - spesifiser | AL2: A7 | AM2: Kontroll døgndose | AN2: A8 | AO2: A9a | AP2: A9b | AQ2: A9b - spesifiser | AR2: A9c | AS2: A9c - spesifiser | AT2: A10a | AU2: A10b | AV2: A10c | AW2: A10c - spesifiser | AX2: A11a | AY2: A11b | AZ2: B1a | BA2: B1b | BB2: B1c | BC2: B1d | BD2: B1e | BE2: B1f | BF2: B1f -spesifiser | BG2: B2 | BH2: B3a | BI2: B3b | BJ2: B3c | BK2: B4 | BL2: B5a | BM2: B5b | BN2: B5c | BO2: B5d | BP2: B5e | BQ2: B6 | BR2: B7 | BS2: C1 | BT2: C2 | BU2: C3 | BV2: C4 | BW2: C5a | BX2: C5b | BY2: C6 | BZ2: C7 pasient | CA2: C7 medarbeider | CB2: C7 ansvarsgruppe
B3: 45658 | D3: =MID('For utfylling'!#REF!,1,1) -> #REF! | E3: =MID('For utfylling'!#REF!,2,1) -> #REF! | F3: =MID('For utfylling'!#REF!,3,1) -> #REF! | G3: =MID('For utfylling'!#REF!,4,1) -> #REF! | H3: =MID('For utfylling'!#REF!,5,1) -> #REF! | I3: =MID('For utfylling'!#REF!,6,1) -> #REF! | J3: =MID('For utfylling'!#REF!,7,1) -> #REF! | K3: =MID('For utfylling'!#REF!,8,1) -> #REF! | L3: =MID('For utfylling'!#REF!,9,1) -> #REF! | M3: =MID('For utfylling'!#REF!,10,1) -> #REF! | N3: =RIGHT('For utfylling'!#REF!,1) -> #REF! | O3: =IF(LEN('For utfylling'!#REF!)<11,1.1,SUM((D3*$D$1+E3*$E$1+F3*$F$1+G3*$G$1+H3*$H$1+I3*$I$1+J3*$J$1+K3*$K$1+L3*$L$1+M3*$M$1+N3*$N$1))/11) -> #REF! | P3: =IF(LEN('For utfylling'!#REF!)<11,1.1,SUM((D3*$D$2+E3*$E$2+F3*$F$2+G3*$G$2+H3*$H$2+I3*$I$2+J3*$J$2+K3*$K$2+L3*$L$2+M3*$M$2))/11) -> #REF! | Q3: 0. Mann | R3: 15 | S3: =VALUE(19&H3&I3) -> #REF! | T3: =YEAR('For utfylling'!#REF!) -> #REF! | U3: =T3-S3 -> #REF! | V3: =IF(OR(U3='For utfylling'!#REF!,U3=('For utfylling'!#REF!+1),U3=('For utfylling'!#REF!-1)),1,0) -> #REF! | Y3: 32874 | Z3: 45658 | AA3: 0. Ikke utskrevet | AC3: 0. Uten beskjeftigelse/arbeidsledig | AD3: 0. Nei | AE3: 0. Nei | AF3: 0. Forsørget av andre | AG3: 0. Ingen bolig | AH3: 0. Ikke smittet | AI3: 0. Aldri behandlet (HepC antigen negativ) | AJ3: 0. Metadon | AL3: 0 | AN3: 0. Lege ansatt i LAR-tiltak | AO3: 0. Nei | AP3: 0. Nei | AR3: 0. Nei | AT3: 0 | AU3: 0 | AV3: 0. LAR-tiltak/spesialithelsetjeneste | AX3: 0. Ingen prøver | AY3: 0 | AZ3: 0. Rehabilitering m/rusfrihet | BA3: 0. Hovedansvar i Spesialisthelsetjen./LAR (ikke overført) | BB3: 0. Nei | BC3: 0. Nei | BD3: 0. Nei | BE3: 0. Nei | BG3: 0. Nei | BH3: 0. Nei | BI3: 0. Nei | BJ3: 0. Nei | BK3: 0. Nei | BL3: 0. Nei | BM3: 0. Nei | BN3: 0. Nei | BO3: 0. Nei | BP3: 0. Nei | BQ3: 0. Aldri | BR3: 0. Aldri ruspåvirket | BS3: 0. Nei | BT3: 0. Nei | BU3: 0. Nei | BV3: 0. Aldri | BW3: 0. Fornøyd | BX3: 0. Vellykket | BY3: 0. Nei | BZ3: 0. Nei | CA3: 0. Nei | CB3: 0. Nei
B4: 46143 | D4: =MID('For utfylling'!$C4,1,1) | E4: =MID('For utfylling'!$C4,2,1) | F4: =MID('For utfylling'!$C4,3,1) | G4: =MID('For utfylling'!$C4,4,1) | H4: =MID('For utfylling'!$C4,5,1) | I4: =MID('For utfylling'!$C4,6,1) | J4: =MID('For utfylling'!$C4,7,1) | K4: =MID('For utfylling'!$C4,8,1) | L4: =MID('For utfylling'!$C4,9,1) | M4: =MID('For utfylling'!$C4,10,1) | N4: =RIGHT('For utfylling'!C4,1) | O4: =IF(LEN('For utfylling'!C4)<11,1.1,SUM((D4*$D$1+E4*$E$1+F4*$F$1+G4*$G$1+H4*$H$1+I4*$I$1+J4*$J$1+K4*$K$1+L4*$L$1+M4*$M$1+N4*$N$1))/11) -> 1.1 | P4: =IF(LEN('For utfylling'!C4)<11,1.1,SUM((D4*$D$2+E4*$E$2+F4*$F$2+G4*$G$2+H4*$H$2+I4*$I$2+J4*$J$2+K4*$K$2+L4*$L$2+M4*$M$2))/11) -> 1.1 | Q4: 1. Kvinne | R4: 16 | S4: =VALUE(19&H4&I4) -> 19 | T4: =YEAR('For utfylling'!B4) -> 1900 | U4: =T4-S4 -> 1881 | V4: =IF(OR(U4='For utfylling'!F4,U4=('For utfylling'!F4+1),U4=('For utfylling'!F4-1)),1,0) -> 0 | Y4: 45658 | Z4: 46143 | AA4: 1. Eget ønske om avvenning (ferdig behandlet) | AC4: 1. Heltidsjobb | AD4: 1. Ja | AE4: 1. Ja | AF4: 1. Arbeidsinntekt | AG4: 1. Hospits/hybelhus/hotell | AH4: 1. Smittet | AI4: 1. HepC sykdom er ferdig behandlet | AJ4: 1. Buprenorfin | AL4: 999 | AN4: 1. Fastlege | AO4: 1. Ja | AP4: 1. Ja, spesifiser | AR4: 1. Ja, spesifiser | AT4: 1 | AU4: 1 | AV4: 1. Apotek | AX4: 1. Stikkprøver | AY4: 1 | AZ4: 1. Stabilisering/uten krav til rusfrihet | BA4: 1. Hovedansvar i førstelinje (overført) | BB4: 1. Ja | BC4: 1. Ja | BD4: 1. Ja | BE4: 1. Ja, spesifiser | BG4: 1. Ja | BH4: 1. Ja | BI4: 1. Ja | BJ4: 1. Ja | BK4: 1. Ja | BL4: 1. Ja | BM4: 1. Ja | BN4: 1. Ja | BO4: 1. Ja | BP4: 1. Ja | BQ4: 1. Få enkeltepisoder | BR4: 1. Av og til ruspåvirket | BS4: 1. Ja | BT4: 1. Ja | BU4: 1. Ja | BV4: 1. Noen enkeltstående, korte perioder | BW4: 1. Både-og | BX4: 1. Både-og | BY4: 1. Ja | BZ4: 1. Ja | CA4: 1. Ja | CB4: 1. Ja
D5: =MID('For utfylling'!$C5,1,1) | E5: =MID('For utfylling'!$C5,2,1) | F5: =MID('For utfylling'!$C5,3,1) | G5: =MID('For utfylling'!$C5,4,1) | H5: =MID('For utfylling'!$C5,5,1) | I5: =MID('For utfylling'!$C5,6,1) | J5: =MID('For utfylling'!$C5,7,1) | K5: =MID('For utfylling'!$C5,8,1) | L5: =MID('For utfylling'!$C5,9,1) | M5: =MID('For utfylling'!$C5,10,1) | N5: =RIGHT('For utfylling'!C5,1) | O5: =IF(LEN('For utfylling'!C5)<11,1.1,SUM((D5*$D$1+E5*$E$1+F5*$F$1+G5*$G$1+H5*$H$1+I5*$I$1+J5*$J$1+K5*$K$1+L5*$L$1+M5*$M$1+N5*$N$1))/11) -> 1.1 | P5: =IF(LEN('For utfylling'!C5)<11,1.1,SUM((D5*$D$2+E5*$E$2+F5*$F$2+G5*$G$2+H5*$H$2+I5*$I$2+J5*$J$2+K5*$K$2+L5*$L$2+M5*$M$2))/11) -> 1.1 | R5: 17 | S5: =VALUE(19&H5&I5) -> 19 | T5: =YEAR('For utfylling'!B5) -> 1900 | U5: =T5-S5 -> 1881 | V5: =IF(OR(U5='For utfylling'!F5,U5=('For utfylling'!F5+1),U5=('For utfylling'!F5-1)),1,0) -> 0 | AA5: 2. Misfornøyd med beh. Eller reguleringene (frafall) | AC5: 2. Deltidsjobb | AD5: 9. Ukjent | AE5: 9. Ukjent | AF5: 2. Studielån/stipend | AG5: 2. Institusjon | AH5: 9. Ukjent | AI5: 2. HepC positiv? (antigen påvist, ubeh.) | AJ5: 1a. Buprenorfin depot | AN5: 2. Annen lege | AO5: 2. Usikker | AP5: 9. Ukjent | AR5: 9. Ukjent | AT5: 2 | AU5: 2 | AV5: 2. Kommunalt tjenesteapparat | AX5: 2. Regelmessig prøvetaking | AY5: 2 | AZ5: 9. Ikke avtalt | BA5: 10. Annet | BB5: 9. Ukjent | BC5: 9. Ukjent | BD5: 9. Ukjent | BE5: 9. Ukjent | BG5: 9. Ukjent | BH5: 9. Ukjent | BI5: 9. Ukjent | BJ5: 9. Ukjent | BK5: 9. Ukjent | BL5: 9. Ukjent | BM5: 9. Ukjent | BN5: 9. Ukjent | BO5: 9. Ukjent | BP5: 9. Ukjent | BQ5: 2. Regelmessig bruk | BR5: 2. Avhengighetspreget, rusdominert | BS5: 9. Ukjent | BT5: 9. Ukjent | BU5: 9. Ukjent | BV5: 2. Brukt i lengre perioder, hele tiden | BW5: 2. Misnøyd | BX5: 2. Ikke vellykket | BY5: 9. Ukjent | BZ5: 9. Ukjent | CA5: 9. Ukjent | CB5: 9. Ukjent
D6: =MID('For utfylling'!$C6,1,1) | E6: =MID('For utfylling'!$C6,2,1) | F6: =MID('For utfylling'!$C6,3,1) | G6: =MID('For utfylling'!$C6,4,1) | H6: =MID('For utfylling'!$C6,5,1) | I6: =MID('For utfylling'!$C6,6,1) | J6: =MID('For utfylling'!$C6,7,1) | K6: =MID('For utfylling'!$C6,8,1) | L6: =MID('For utfylling'!$C6,9,1) | M6: =MID('For utfylling'!$C6,10,1) | N6: =RIGHT('For utfylling'!C6,1) | O6: =IF(LEN('For utfylling'!C6)<11,1.1,SUM((D6*$D$1+E6*$E$1+F6*$F$1+G6*$G$1+H6*$H$1+I6*$I$1+J6*$J$1+K6*$K$1+L6*$L$1+M6*$M$1+N6*$N$1))/11) -> 1.1 | P6: =IF(LEN('For utfylling'!C6)<11,1.1,SUM((D6*$D$2+E6*$E$2+F6*$F$2+G6*$G$2+H6*$H$2+I6*$I$2+J6*$J$2+K6*$K$2+L6*$L$2+M6*$M$2))/11) -> 1.1 | R6: 18 | S6: =VALUE(19&H6&I6) -> 19 | T6: =YEAR('For utfylling'!B6) -> 1900 | U6: =T6-S6 -> 1881 | V6: =IF(OR(U6='For utfylling'!F6,U6=('For utfylling'!F6+1),U6=('For utfylling'!F6-1)),1,0) -> 0 | AA6: 3. Manglende effekt, uforsvarlig (mot pasientens ønske) | AC6: 3. Under utdanning | AF6: 3. Dagpenger (arbeidsledig) | AG6: 3. Fengsel | AI6: 3. HepC sykdom er under behandling | AJ6: 2. Buprenorfin / nalokson | AN6: 9. Ukjent | AO6: 9. Ikke aktuelt | AT6: 3 | AU6: 3 | AV6: 3. Institusjon/bosenter/fengsel | AX6: 9. Ukjent | AY6: 3 | BA6: 9. Ukjent | BQ6: 9. Ukjent | BR6: 9. Ukjent | BV6: 9. Ukjent | BW6: 9. Ikke spurt | BX6: 9. Ukjent
D7: =MID('For utfylling'!$C7,1,1) | E7: =MID('For utfylling'!$C7,2,1) | F7: =MID('For utfylling'!$C7,3,1) | G7: =MID('For utfylling'!$C7,4,1) | H7: =MID('For utfylling'!$C7,5,1) | I7: =MID('For utfylling'!$C7,6,1) | J7: =MID('For utfylling'!$C7,7,1) | K7: =MID('For utfylling'!$C7,8,1) | L7: =MID('For utfylling'!$C7,9,1) | M7: =MID('For utfylling'!$C7,10,1) | N7: =RIGHT('For utfylling'!C7,1) | O7: =IF(LEN('For utfylling'!C7)<11,1.1,SUM((D7*$D$1+E7*$E$1+F7*$F$1+G7*$G$1+H7*$H$1+I7*$I$1+J7*$J$1+K7*$K$1+L7*$L$1+M7*$M$1+N7*$N$1))/11) -> 1.1 | P7: =IF(LEN('For utfylling'!C7)<11,1.1,SUM((D7*$D$2+E7*$E$2+F7*$F$2+G7*$G$2+H7*$H$2+I7*$I$2+J7*$J$2+K7*$K$2+L7*$L$2+M7*$M$2))/11) -> 1.1 | R7: 19 | S7: =VALUE(19&H7&I7) -> 19 | T7: =YEAR('For utfylling'!B7) -> 1900 | U7: =T7-S7 -> 1881 | V7: =IF(OR(U7='For utfylling'!F7,U7=('For utfylling'!F7+1),U7=('For utfylling'!F7-1)),1,0) -> 0 | AA7: 4. Behandlingsvansker (videresalg, trusler, e.l) | AC7: 4. Deltidsjobb og under utdanning | AF7: 4. Sykepenger/delvis sykepenger | AG7: 4. Hos foreldre | AI7: 9. Ukjent HepC status (inkl. avbrudd beh.) | AJ7: 3. Andre, spesifiser | AT7: 4 | AU7: 4 | AV7: 4. Legekontor | AY7: 4
D8: =MID('For utfylling'!$C8,1,1) | E8: =MID('For utfylling'!$C8,2,1) | F8: =MID('For utfylling'!$C8,3,1) | G8: =MID('For utfylling'!$C8,4,1) | H8: =MID('For utfylling'!$C8,5,1) | I8: =MID('For utfylling'!$C8,6,1) | J8: =MID('For utfylling'!$C8,7,1) | K8: =MID('For utfylling'!$C8,8,1) | L8: =MID('For utfylling'!$C8,9,1) | M8: =MID('For utfylling'!$C8,10,1) | N8: =RIGHT('For utfylling'!C8,1) | O8: =IF(LEN('For utfylling'!C8)<11,1.1,SUM((D8*$D$1+E8*$E$1+F8*$F$1+G8*$G$1+H8*$H$1+I8*$I$1+J8*$J$1+K8*$K$1+L8*$L$1+M8*$M$1+N8*$N$1))/11) -> 1.1 | P8: =IF(LEN('For utfylling'!C8)<11,1.1,SUM((D8*$D$2+E8*$E$2+F8*$F$2+G8*$G$2+H8*$H$2+I8*$I$2+J8*$J$2+K8*$K$2+L8*$L$2+M8*$M$2))/11) -> 1.1 | R8: 20 | S8: =VALUE(19&H8&I8) -> 19 | T8: =YEAR('For utfylling'!B8) -> 1900 | U8: =T8-S8 -> 1881 | V8: =IF(OR(U8='For utfylling'!F8,U8=('For utfylling'!F8+1),U8=('For utfylling'!F8-1)),1,0) -> 0 | AA8: 10. Annet, spesifiser | AC8: 9. Ukjent | AF8: 5. Arbeidsavklaringspenger | AG8: 5. Hos andre | AJ8: 9. Ukjent | AT8: 5 | AU8: 5 | AV8: 10. Annet, spesifiser | AY8: 5
D9: =MID('For utfylling'!$C9,1,1) | E9: =MID('For utfylling'!$C9,2,1) | F9: =MID('For utfylling'!$C9,3,1) | G9: =MID('For utfylling'!$C9,4,1) | H9: =MID('For utfylling'!$C9,5,1) | I9: =MID('For utfylling'!$C9,6,1) | J9: =MID('For utfylling'!$C9,7,1) | K9: =MID('For utfylling'!$C9,8,1) | L9: =MID('For utfylling'!$C9,9,1) | M9: =MID('For utfylling'!$C9,10,1) | N9: =RIGHT('For utfylling'!C9,1) | O9: =IF(LEN('For utfylling'!C9)<11,1.1,SUM((D9*$D$1+E9*$E$1+F9*$F$1+G9*$G$1+H9*$H$1+I9*$I$1+J9*$J$1+K9*$K$1+L9*$L$1+M9*$M$1+N9*$N$1))/11) -> 1.1 | P9: =IF(LEN('For utfylling'!C9)<11,1.1,SUM((D9*$D$2+E9*$E$2+F9*$F$2+G9*$G$2+H9*$H$2+I9*$I$2+J9*$J$2+K9*$K$2+L9*$L$2+M9*$M$2))/11) -> 1.1 | R9: 21 | S9: =VALUE(19&H9&I9) -> 19 | T9: =YEAR('For utfylling'!B9) -> 1900 | U9: =T9-S9 -> 1881 | V9: =IF(OR(U9='For utfylling'!F9,U9=('For utfylling'!F9+1),U9=('For utfylling'!F9-1)),1,0) -> 0 | AF9: 6. Uførepensjon/alderspensjon | AG9: 6. Egen bolig | AT9: 6 | AU9: 6 | AV9: 9. Ukjent | AY9: 6
D10: =MID('For utfylling'!$C10,1,1) | E10: =MID('For utfylling'!$C10,2,1) | F10: =MID('For utfylling'!$C10,3,1) | G10: =MID('For utfylling'!$C10,4,1) | H10: =MID('For utfylling'!$C10,5,1) | I10: =MID('For utfylling'!$C10,6,1) | J10: =MID('For utfylling'!$C10,7,1) | K10: =MID('For utfylling'!$C10,8,1) | L10: =MID('For utfylling'!$C10,9,1) | M10: =MID('For utfylling'!$C10,10,1) | N10: =RIGHT('For utfylling'!C10,1) | O10: =IF(LEN('For utfylling'!C10)<11,1.1,SUM((D10*$D$1+E10*$E$1+F10*$F$1+G10*$G$1+H10*$H$1+I10*$I$1+J10*$J$1+K10*$K$1+L10*$L$1+M10*$M$1+N10*$N$1))/11) -> 1.1 | P10: =IF(LEN('For utfylling'!C10)<11,1.1,SUM((D10*$D$2+E10*$E$2+F10*$F$2+G10*$G$2+H10*$H$2+I10*$I$2+J10*$J$2+K10*$K$2+L10*$L$2+M10*$M$2))/11) -> 1.1 | R10: 22 | S10: =VALUE(19&H10&I10) -> 19 | T10: =YEAR('For utfylling'!B10) -> 1900 | U10: =T10-S10 -> 1881 | V10: =IF(OR(U10='For utfylling'!F10,U10=('For utfylling'!F10+1),U10=('For utfylling'!F10-1)),1,0) -> 0 | AF10: 7. Stønad til enslig forsørger | AG10: 10. Annet | AT10: 7 | AU10: 7 | AY10: 7
D11: =MID('For utfylling'!$C11,1,1) | E11: =MID('For utfylling'!$C11,2,1) | F11: =MID('For utfylling'!$C11,3,1) | G11: =MID('For utfylling'!$C11,4,1) | H11: =MID('For utfylling'!$C11,5,1) | I11: =MID('For utfylling'!$C11,6,1) | J11: =MID('For utfylling'!$C11,7,1) | K11: =MID('For utfylling'!$C11,8,1) | L11: =MID('For utfylling'!$C11,9,1) | M11: =MID('For utfylling'!$C11,10,1) | N11: =RIGHT('For utfylling'!C11,1) | O11: =IF(LEN('For utfylling'!C11)<11,1.1,SUM((D11*$D$1+E11*$E$1+F11*$F$1+G11*$G$1+H11*$H$1+I11*$I$1+J11*$J$1+K11*$K$1+L11*$L$1+M11*$M$1+N11*$N$1))/11) -> 1.1 | P11: =IF(LEN('For utfylling'!C11)<11,1.1,SUM((D11*$D$2+E11*$E$2+F11*$F$2+G11*$G$2+H11*$H$2+I11*$I$2+J11*$J$2+K11*$K$2+L11*$L$2+M11*$M$2))/11) -> 1.1 | R11: 23 | S11: =VALUE(19&H11&I11) -> 19 | T11: =YEAR('For utfylling'!B11) -> 1900 | U11: =T11-S11 -> 1881 | V11: =IF(OR(U11='For utfylling'!F11,U11=('For utfylling'!F11+1),U11=('For utfylling'!F11-1)),1,0) -> 0 | AF11: 8. Sosialhjelp | AG11: 9. Ukjent
D12: =MID('For utfylling'!$C12,1,1) | E12: =MID('For utfylling'!$C12,2,1) | F12: =MID('For utfylling'!$C12,3,1) | G12: =MID('For utfylling'!$C12,4,1) | H12: =MID('For utfylling'!$C12,5,1) | I12: =MID('For utfylling'!$C12,6,1) | J12: =MID('For utfylling'!$C12,7,1) | K12: =MID('For utfylling'!$C12,8,1) | L12: =MID('For utfylling'!$C12,9,1) | M12: =MID('For utfylling'!$C12,10,1) | N12: =RIGHT('For utfylling'!C12,1) | O12: =IF(LEN('For utfylling'!C12)<11,1.1,SUM((D12*$D$1+E12*$E$1+F12*$F$1+G12*$G$1+H12*$H$1+I12*$I$1+J12*$J$1+K12*$K$1+L12*$L$1+M12*$M$1+N12*$N$1))/11) -> 1.1 | P12: =IF(LEN('For utfylling'!C12)<11,1.1,SUM((D12*$D$2+E12*$E$2+F12*$F$2+G12*$G$2+H12*$H$2+I12*$I$2+J12*$J$2+K12*$K$2+L12*$L$2+M12*$M$2))/11) -> 1.1 | R12: 24 | S12: =VALUE(19&H12&I12) -> 19 | T12: =YEAR('For utfylling'!B12) -> 1900 | U12: =T12-S12 -> 1881 | V12: =IF(OR(U12='For utfylling'!F12,U12=('For utfylling'!F12+1),U12=('For utfylling'!F12-1)),1,0) -> 0 | AF12: 10. Annet
D13: =MID('For utfylling'!$C13,1,1) | E13: =MID('For utfylling'!$C13,2,1) | F13: =MID('For utfylling'!$C13,3,1) | G13: =MID('For utfylling'!$C13,4,1) | H13: =MID('For utfylling'!$C13,5,1) | I13: =MID('For utfylling'!$C13,6,1) | J13: =MID('For utfylling'!$C13,7,1) | K13: =MID('For utfylling'!$C13,8,1) | L13: =MID('For utfylling'!$C13,9,1) | M13: =MID('For utfylling'!$C13,10,1) | N13: =RIGHT('For utfylling'!C13,1) | O13: =IF(LEN('For utfylling'!C13)<11,1.1,SUM((D13*$D$1+E13*$E$1+F13*$F$1+G13*$G$1+H13*$H$1+I13*$I$1+J13*$J$1+K13*$K$1+L13*$L$1+M13*$M$1+N13*$N$1))/11) -> 1.1 | P13: =IF(LEN('For utfylling'!C13)<11,1.1,SUM((D13*$D$2+E13*$E$2+F13*$F$2+G13*$G$2+H13*$H$2+I13*$I$2+J13*$J$2+K13*$K$2+L13*$L$2+M13*$M$2))/11) -> 1.1 | R13: 25 | S13: =VALUE(19&H13&I13) -> 19 | T13: =YEAR('For utfylling'!B13) -> 1900 | U13: =T13-S13 -> 1881 | V13: =IF(OR(U13='For utfylling'!F13,U13=('For utfylling'!F13+1),U13=('For utfylling'!F13-1)),1,0) -> 0 | AF13: 9. Ukjent
D14: =MID('For utfylling'!$C14,1,1) | E14: =MID('For utfylling'!$C14,2,1) | F14: =MID('For utfylling'!$C14,3,1) | G14: =MID('For utfylling'!$C14,4,1) | H14: =MID('For utfylling'!$C14,5,1) | I14: =MID('For utfylling'!$C14,6,1) | J14: =MID('For utfylling'!$C14,7,1) | K14: =MID('For utfylling'!$C14,8,1) | L14: =MID('For utfylling'!$C14,9,1) | M14: =MID('For utfylling'!$C14,10,1) | N14: =RIGHT('For utfylling'!C14,1) | O14: =IF(LEN('For utfylling'!C14)<11,1.1,SUM((D14*$D$1+E14*$E$1+F14*$F$1+G14*$G$1+H14*$H$1+I14*$I$1+J14*$J$1+K14*$K$1+L14*$L$1+M14*$M$1+N14*$N$1))/11) -> 1.1 | P14: =IF(LEN('For utfylling'!C14)<11,1.1,SUM((D14*$D$2+E14*$E$2+F14*$F$2+G14*$G$2+H14*$H$2+I14*$I$2+J14*$J$2+K14*$K$2+L14*$L$2+M14*$M$2))/11) -> 1.1 | R14: 26 | S14: =VALUE(19&H14&I14) -> 19 | T14: =YEAR('For utfylling'!B14) -> 1900 | U14: =T14-S14 -> 1881 | V14: =IF(OR(U14='For utfylling'!F14,U14=('For utfylling'!F14+1),U14=('For utfylling'!F14-1)),1,0) -> 0
D15: =MID('For utfylling'!$C15,1,1) | E15: =MID('For utfylling'!$C15,2,1) | F15: =MID('For utfylling'!$C15,3,1) | G15: =MID('For utfylling'!$C15,4,1) | H15: =MID('For utfylling'!$C15,5,1) | I15: =MID('For utfylling'!$C15,6,1) | J15: =MID('For utfylling'!$C15,7,1) | K15: =MID('For utfylling'!$C15,8,1) | L15: =MID('For utfylling'!$C15,9,1) | M15: =MID('For utfylling'!$C15,10,1) | N15: =RIGHT('For utfylling'!C15,1) | O15: =IF(LEN('For utfylling'!C15)<11,1.1,SUM((D15*$D$1+E15*$E$1+F15*$F$1+G15*$G$1+H15*$H$1+I15*$I$1+J15*$J$1+K15*$K$1+L15*$L$1+M15*$M$1+N15*$N$1))/11) -> 1.1 | P15: =IF(LEN('For utfylling'!C15)<11,1.1,SUM((D15*$D$2+E15*$E$2+F15*$F$2+G15*$G$2+H15*$H$2+I15*$I$2+J15*$J$2+K15*$K$2+L15*$L$2+M15*$M$2))/11) -> 1.1 | R15: 27 | S15: =VALUE(19&H15&I15) -> 19 | T15: =YEAR('For utfylling'!B15) -> 1900 | U15: =T15-S15 -> 1881 | V15: =IF(OR(U15='For utfylling'!F15,U15=('For utfylling'!F15+1),U15=('For utfylling'!F15-1)),1,0) -> 0
D16: =MID('For utfylling'!$C16,1,1) | E16: =MID('For utfylling'!$C16,2,1) | F16: =MID('For utfylling'!$C16,3,1) | G16: =MID('For utfylling'!$C16,4,1) | H16: =MID('For utfylling'!$C16,5,1) | I16: =MID('For utfylling'!$C16,6,1) | J16: =MID('For utfylling'!$C16,7,1) | K16: =MID('For utfylling'!$C16,8,1) | L16: =MID('For utfylling'!$C16,9,1) | M16: =MID('For utfylling'!$C16,10,1) | N16: =RIGHT('For utfylling'!C16,1) | O16: =IF(LEN('For utfylling'!C16)<11,1.1,SUM((D16*$D$1+E16*$E$1+F16*$F$1+G16*$G$1+H16*$H$1+I16*$I$1+J16*$J$1+K16*$K$1+L16*$L$1+M16*$M$1+N16*$N$1))/11) -> 1.1 | P16: =IF(LEN('For utfylling'!C16)<11,1.1,SUM((D16*$D$2+E16*$E$2+F16*$F$2+G16*$G$2+H16*$H$2+I16*$I$2+J16*$J$2+K16*$K$2+L16*$L$2+M16*$M$2))/11) -> 1.1 | R16: 28 | S16: =VALUE(19&H16&I16) -> 19 | T16: =YEAR('For utfylling'!B16) -> 1900 | U16: =T16-S16 -> 1881 | V16: =IF(OR(U16='For utfylling'!F16,U16=('For utfylling'!F16+1),U16=('For utfylling'!F16-1)),1,0) -> 0
D17: =MID('For utfylling'!$C17,1,1) | E17: =MID('For utfylling'!$C17,2,1) | F17: =MID('For utfylling'!$C17,3,1) | G17: =MID('For utfylling'!$C17,4,1) | H17: =MID('For utfylling'!$C17,5,1) | I17: =MID('For utfylling'!$C17,6,1) | J17: =MID('For utfylling'!$C17,7,1) | K17: =MID('For utfylling'!$C17,8,1) | L17: =MID('For utfylling'!$C17,9,1) | M17: =MID('For utfylling'!$C17,10,1) | N17: =RIGHT('For utfylling'!C17,1) | O17: =IF(LEN('For utfylling'!C17)<11,1.1,SUM((D17*$D$1+E17*$E$1+F17*$F$1+G17*$G$1+H17*$H$1+I17*$I$1+J17*$J$1+K17*$K$1+L17*$L$1+M17*$M$1+N17*$N$1))/11) -> 1.1 | P17: =IF(LEN('For utfylling'!C17)<11,1.1,SUM((D17*$D$2+E17*$E$2+F17*$F$2+G17*$G$2+H17*$H$2+I17*$I$2+J17*$J$2+K17*$K$2+L17*$L$2+M17*$M$2))/11) -> 1.1 | R17: 29 | S17: =VALUE(19&H17&I17) -> 19 | T17: =YEAR('For utfylling'!B17) -> 1900 | U17: =T17-S17 -> 1881 | V17: =IF(OR(U17='For utfylling'!F17,U17=('For utfylling'!F17+1),U17=('For utfylling'!F17-1)),1,0) -> 0
D18: =MID('For utfylling'!$C18,1,1) | E18: =MID('For utfylling'!$C18,2,1) | F18: =MID('For utfylling'!$C18,3,1) | G18: =MID('For utfylling'!$C18,4,1) | H18: =MID('For utfylling'!$C18,5,1) | I18: =MID('For utfylling'!$C18,6,1) | J18: =MID('For utfylling'!$C18,7,1) | K18: =MID('For utfylling'!$C18,8,1) | L18: =MID('For utfylling'!$C18,9,1) | M18: =MID('For utfylling'!$C18,10,1) | N18: =RIGHT('For utfylling'!C18,1) | O18: =IF(LEN('For utfylling'!C18)<11,1.1,SUM((D18*$D$1+E18*$E$1+F18*$F$1+G18*$G$1+H18*$H$1+I18*$I$1+J18*$J$1+K18*$K$1+L18*$L$1+M18*$M$1+N18*$N$1))/11) -> 1.1 | P18: =IF(LEN('For utfylling'!C18)<11,1.1,SUM((D18*$D$2+E18*$E$2+F18*$F$2+G18*$G$2+H18*$H$2+I18*$I$2+J18*$J$2+K18*$K$2+L18*$L$2+M18*$M$2))/11) -> 1.1 | R18: 30 | S18: =VALUE(19&H18&I18) -> 19 | T18: =YEAR('For utfylling'!B18) -> 1900 | U18: =T18-S18 -> 1881 | V18: =IF(OR(U18='For utfylling'!F18,U18=('For utfylling'!F18+1),U18=('For utfylling'!F18-1)),1,0) -> 0
D19: =MID('For utfylling'!$C19,1,1) | E19: =MID('For utfylling'!$C19,2,1) | F19: =MID('For utfylling'!$C19,3,1) | G19: =MID('For utfylling'!$C19,4,1) | H19: =MID('For utfylling'!$C19,5,1) | I19: =MID('For utfylling'!$C19,6,1) | J19: =MID('For utfylling'!$C19,7,1) | K19: =MID('For utfylling'!$C19,8,1) | L19: =MID('For utfylling'!$C19,9,1) | M19: =MID('For utfylling'!$C19,10,1) | N19: =RIGHT('For utfylling'!C19,1) | O19: =IF(LEN('For utfylling'!C19)<11,1.1,SUM((D19*$D$1+E19*$E$1+F19*$F$1+G19*$G$1+H19*$H$1+I19*$I$1+J19*$J$1+K19*$K$1+L19*$L$1+M19*$M$1+N19*$N$1))/11) -> 1.1 | P19: =IF(LEN('For utfylling'!C19)<11,1.1,SUM((D19*$D$2+E19*$E$2+F19*$F$2+G19*$G$2+H19*$H$2+I19*$I$2+J19*$J$2+K19*$K$2+L19*$L$2+M19*$M$2))/11) -> 1.1 | R19: 31 | S19: =VALUE(19&H19&I19) -> 19 | T19: =YEAR('For utfylling'!B19) -> 1900 | U19: =T19-S19 -> 1881 | V19: =IF(OR(U19='For utfylling'!F19,U19=('For utfylling'!F19+1),U19=('For utfylling'!F19-1)),1,0) -> 0
D20: =MID('For utfylling'!$C20,1,1) | E20: =MID('For utfylling'!$C20,2,1) | F20: =MID('For utfylling'!$C20,3,1) | G20: =MID('For utfylling'!$C20,4,1) | H20: =MID('For utfylling'!$C20,5,1) | I20: =MID('For utfylling'!$C20,6,1) | J20: =MID('For utfylling'!$C20,7,1) | K20: =MID('For utfylling'!$C20,8,1) | L20: =MID('For utfylling'!$C20,9,1) | M20: =MID('For utfylling'!$C20,10,1) | N20: =RIGHT('For utfylling'!C20,1) | O20: =IF(LEN('For utfylling'!C20)<11,1.1,SUM((D20*$D$1+E20*$E$1+F20*$F$1+G20*$G$1+H20*$H$1+I20*$I$1+J20*$J$1+K20*$K$1+L20*$L$1+M20*$M$1+N20*$N$1))/11) -> 1.1 | P20: =IF(LEN('For utfylling'!C20)<11,1.1,SUM((D20*$D$2+E20*$E$2+F20*$F$2+G20*$G$2+H20*$H$2+I20*$I$2+J20*$J$2+K20*$K$2+L20*$L$2+M20*$M$2))/11) -> 1.1 | R20: 32 | S20: =VALUE(19&H20&I20) -> 19 | T20: =YEAR('For utfylling'!B20) -> 1900 | U20: =T20-S20 -> 1881 | V20: =IF(OR(U20='For utfylling'!F20,U20=('For utfylling'!F20+1),U20=('For utfylling'!F20-1)),1,0) -> 0
D21: =MID('For utfylling'!$C21,1,1) | E21: =MID('For utfylling'!$C21,2,1) | F21: =MID('For utfylling'!$C21,3,1) | G21: =MID('For utfylling'!$C21,4,1) | H21: =MID('For utfylling'!$C21,5,1) | I21: =MID('For utfylling'!$C21,6,1) | J21: =MID('For utfylling'!$C21,7,1) | K21: =MID('For utfylling'!$C21,8,1) | L21: =MID('For utfylling'!$C21,9,1) | M21: =MID('For utfylling'!$C21,10,1) | N21: =RIGHT('For utfylling'!C21,1) | O21: =IF(LEN('For utfylling'!C21)<11,1.1,SUM((D21*$D$1+E21*$E$1+F21*$F$1+G21*$G$1+H21*$H$1+I21*$I$1+J21*$J$1+K21*$K$1+L21*$L$1+M21*$M$1+N21*$N$1))/11) -> 1.1 | P21: =IF(LEN('For utfylling'!C21)<11,1.1,SUM((D21*$D$2+E21*$E$2+F21*$F$2+G21*$G$2+H21*$H$2+I21*$I$2+J21*$J$2+K21*$K$2+L21*$L$2+M21*$M$2))/11) -> 1.1 | R21: 33 | S21: =VALUE(19&H21&I21) -> 19 | T21: =YEAR('For utfylling'!B21) -> 1900 | U21: =T21-S21 -> 1881 | V21: =IF(OR(U21='For utfylling'!F21,U21=('For utfylling'!F21+1),U21=('For utfylling'!F21-1)),1,0) -> 0
D22: =MID('For utfylling'!$C22,1,1) | E22: =MID('For utfylling'!$C22,2,1) | F22: =MID('For utfylling'!$C22,3,1) | G22: =MID('For utfylling'!$C22,4,1) | H22: =MID('For utfylling'!$C22,5,1) | I22: =MID('For utfylling'!$C22,6,1) | J22: =MID('For utfylling'!$C22,7,1) | K22: =MID('For utfylling'!$C22,8,1) | L22: =MID('For utfylling'!$C22,9,1) | M22: =MID('For utfylling'!$C22,10,1) | N22: =RIGHT('For utfylling'!C22,1) | O22: =IF(LEN('For utfylling'!C22)<11,1.1,SUM((D22*$D$1+E22*$E$1+F22*$F$1+G22*$G$1+H22*$H$1+I22*$I$1+J22*$J$1+K22*$K$1+L22*$L$1+M22*$M$1+N22*$N$1))/11) -> 1.1 | P22: =IF(LEN('For utfylling'!C22)<11,1.1,SUM((D22*$D$2+E22*$E$2+F22*$F$2+G22*$G$2+H22*$H$2+I22*$I$2+J22*$J$2+K22*$K$2+L22*$L$2+M22*$M$2))/11) -> 1.1 | R22: 34 | S22: =VALUE(19&H22&I22) -> 19 | T22: =YEAR('For utfylling'!B22) -> 1900 | U22: =T22-S22 -> 1881 | V22: =IF(OR(U22='For utfylling'!F22,U22=('For utfylling'!F22+1),U22=('For utfylling'!F22-1)),1,0) -> 0
D23: =MID('For utfylling'!$C23,1,1) | E23: =MID('For utfylling'!$C23,2,1) | F23: =MID('For utfylling'!$C23,3,1) | G23: =MID('For utfylling'!$C23,4,1) | H23: =MID('For utfylling'!$C23,5,1) | I23: =MID('For utfylling'!$C23,6,1) | J23: =MID('For utfylling'!$C23,7,1) | K23: =MID('For utfylling'!$C23,8,1) | L23: =MID('For utfylling'!$C23,9,1) | M23: =MID('For utfylling'!$C23,10,1) | N23: =RIGHT('For utfylling'!C23,1) | O23: =IF(LEN('For utfylling'!C23)<11,1.1,SUM((D23*$D$1+E23*$E$1+F23*$F$1+G23*$G$1+H23*$H$1+I23*$I$1+J23*$J$1+K23*$K$1+L23*$L$1+M23*$M$1+N23*$N$1))/11) -> 1.1 | P23: =IF(LEN('For utfylling'!C23)<11,1.1,SUM((D23*$D$2+E23*$E$2+F23*$F$2+G23*$G$2+H23*$H$2+I23*$I$2+J23*$J$2+K23*$K$2+L23*$L$2+M23*$M$2))/11) -> 1.1 | R23: 35 | S23: =VALUE(19&H23&I23) -> 19 | T23: =YEAR('For utfylling'!B23) -> 1900 | U23: =T23-S23 -> 1881 | V23: =IF(OR(U23='For utfylling'!F23,U23=('For utfylling'!F23+1),U23=('For utfylling'!F23-1)),1,0) -> 0
D24: =MID('For utfylling'!$C24,1,1) | E24: =MID('For utfylling'!$C24,2,1) | F24: =MID('For utfylling'!$C24,3,1) | G24: =MID('For utfylling'!$C24,4,1) | H24: =MID('For utfylling'!$C24,5,1) | I24: =MID('For utfylling'!$C24,6,1) | J24: =MID('For utfylling'!$C24,7,1) | K24: =MID('For utfylling'!$C24,8,1) | L24: =MID('For utfylling'!$C24,9,1) | M24: =MID('For utfylling'!$C24,10,1) | N24: =RIGHT('For utfylling'!C24,1) | O24: =IF(LEN('For utfylling'!C24)<11,1.1,SUM((D24*$D$1+E24*$E$1+F24*$F$1+G24*$G$1+H24*$H$1+I24*$I$1+J24*$J$1+K24*$K$1+L24*$L$1+M24*$M$1+N24*$N$1))/11) -> 1.1 | P24: =IF(LEN('For utfylling'!C24)<11,1.1,SUM((D24*$D$2+E24*$E$2+F24*$F$2+G24*$G$2+H24*$H$2+I24*$I$2+J24*$J$2+K24*$K$2+L24*$L$2+M24*$M$2))/11) -> 1.1 | R24: 36 | S24: =VALUE(19&H24&I24) -> 19 | T24: =YEAR('For utfylling'!B24) -> 1900 | U24: =T24-S24 -> 1881 | V24: =IF(OR(U24='For utfylling'!F24,U24=('For utfylling'!F24+1),U24=('For utfylling'!F24-1)),1,0) -> 0
D25: =MID('For utfylling'!$C25,1,1) | E25: =MID('For utfylling'!$C25,2,1) | F25: =MID('For utfylling'!$C25,3,1) | G25: =MID('For utfylling'!$C25,4,1) | H25: =MID('For utfylling'!$C25,5,1) | I25: =MID('For utfylling'!$C25,6,1) | J25: =MID('For utfylling'!$C25,7,1) | K25: =MID('For utfylling'!$C25,8,1) | L25: =MID('For utfylling'!$C25,9,1) | M25: =MID('For utfylling'!$C25,10,1) | N25: =RIGHT('For utfylling'!C25,1) | O25: =IF(LEN('For utfylling'!C25)<11,1.1,SUM((D25*$D$1+E25*$E$1+F25*$F$1+G25*$G$1+H25*$H$1+I25*$I$1+J25*$J$1+K25*$K$1+L25*$L$1+M25*$M$1+N25*$N$1))/11) -> 1.1 | P25: =IF(LEN('For utfylling'!C25)<11,1.1,SUM((D25*$D$2+E25*$E$2+F25*$F$2+G25*$G$2+H25*$H$2+I25*$I$2+J25*$J$2+K25*$K$2+L25*$L$2+M25*$M$2))/11) -> 1.1 | R25: 37 | S25: =VALUE(19&H25&I25) -> 19 | T25: =YEAR('For utfylling'!B25) -> 1900 | U25: =T25-S25 -> 1881 | V25: =IF(OR(U25='For utfylling'!F25,U25=('For utfylling'!F25+1),U25=('For utfylling'!F25-1)),1,0) -> 0
... D68: =MID('For utfylling'!$C68,1,1) | E68: =MID('For utfylling'!$C68,2,1) | F68: =MID('For utfylling'!$C68,3,1) | G68: =MID('For utfylling'!$C68,4,1) | H68: =MID('For utfylling'!$C68,5,1) | I68: =MID('For utfylling'!$C68,6,1) | J68: =MID('For utfylling'!$C68,7,1) | K68: =MID('For utfylling'!$C68,8,1) | L68: =MID('For utfylling'!$C68,9,1) | M68: =MID('For utfylling'!$C68,10,1) | N68: =RIGHT('For utfylling'!C68,1) | O68: =IF(LEN('For utfylling'!C68)<11,1.1,SUM((D68*$D$1+E68*$E$1+F68*$F$1+G68*$G$1+H68*$H$1+I68*$I$1+J68*$J$1+K68*$K$1+L68*$L$1+M68*$M$1+N68*$N$1))/11) -> 1.1 | P68: =IF(LEN('For utfylling'!C68)<11,1.1,SUM((D68*$D$2+E68*$E$2+F68*$F$2+G68*$G$2+H68*$H$2+I68*$I$2+J68*$J$2+K68*$K$2+L68*$L$2+M68*$M$2))/11) -> 1.1 | R68: 80 | S68: =VALUE(19&H68&I68) -> 19 | T68: =YEAR('For utfylling'!B68) -> 1900 | U68: =T68-S68 -> 1881 | V68: =IF(OR(U68='For utfylling'!F68,U68=('For utfylling'!F68+1),U68=('For utfylling'!F68-1)),1,0) -> 0
D69: =MID('For utfylling'!$C69,1,1) | E69: =MID('For utfylling'!$C69,2,1) | F69: =MID('For utfylling'!$C69,3,1) | G69: =MID('For utfylling'!$C69,4,1) | H69: =MID('For utfylling'!$C69,5,1) | I69: =MID('For utfylling'!$C69,6,1) | J69: =MID('For utfylling'!$C69,7,1) | K69: =MID('For utfylling'!$C69,8,1) | L69: =MID('For utfylling'!$C69,9,1) | M69: =MID('For utfylling'!$C69,10,1) | N69: =RIGHT('For utfylling'!C69,1) | O69: =IF(LEN('For utfylling'!C69)<11,1.1,SUM((D69*$D$1+E69*$E$1+F69*$F$1+G69*$G$1+H69*$H$1+I69*$I$1+J69*$J$1+K69*$K$1+L69*$L$1+M69*$M$1+N69*$N$1))/11) -> 1.1 | P69: =IF(LEN('For utfylling'!C69)<11,1.1,SUM((D69*$D$2+E69*$E$2+F69*$F$2+G69*$G$2+H69*$H$2+I69*$I$2+J69*$J$2+K69*$K$2+L69*$L$2+M69*$M$2))/11) -> 1.1 | S69: =VALUE(19&H69&I69) -> 19 | T69: =YEAR('For utfylling'!B69) -> 1900 | U69: =T69-S69 -> 1881 | V69: =IF(OR(U69='For utfylling'!F69,U69=('For utfylling'!F69+1),U69=('For utfylling'!F69-1)),1,0) -> 0
D70: =MID('For utfylling'!$C70,1,1) | E70: =MID('For utfylling'!$C70,2,1) | F70: =MID('For utfylling'!$C70,3,1) | G70: =MID('For utfylling'!$C70,4,1) | H70: =MID('For utfylling'!$C70,5,1) | I70: =MID('For utfylling'!$C70,6,1) | J70: =MID('For utfylling'!$C70,7,1) | K70: =MID('For utfylling'!$C70,8,1) | L70: =MID('For utfylling'!$C70,9,1) | M70: =MID('For utfylling'!$C70,10,1) | N70: =RIGHT('For utfylling'!C70,1) | O70: =IF(LEN('For utfylling'!C70)<11,1.1,SUM((D70*$D$1+E70*$E$1+F70*$F$1+G70*$G$1+H70*$H$1+I70*$I$1+J70*$J$1+K70*$K$1+L70*$L$1+M70*$M$1+N70*$N$1))/11) -> 1.1 | P70: =IF(LEN('For utfylling'!C70)<11,1.1,SUM((D70*$D$2+E70*$E$2+F70*$F$2+G70*$G$2+H70*$H$2+I70*$I$2+J70*$J$2+K70*$K$2+L70*$L$2+M70*$M$2))/11) -> 1.1 | S70: =VALUE(19&H70&I70) -> 19 | T70: =YEAR('For utfylling'!B70) -> 1900 | U70: =T70-S70 -> 1881 | V70: =IF(OR(U70='For utfylling'!F70,U70=('For utfylling'!F70+1),U70=('For utfylling'!F70-1)),1,0) -> 0
D71: =MID('For utfylling'!$C71,1,1) | E71: =MID('For utfylling'!$C71,2,1) | F71: =MID('For utfylling'!$C71,3,1) | G71: =MID('For utfylling'!$C71,4,1) | H71: =MID('For utfylling'!$C71,5,1) | I71: =MID('For utfylling'!$C71,6,1) | J71: =MID('For utfylling'!$C71,7,1) | K71: =MID('For utfylling'!$C71,8,1) | L71: =MID('For utfylling'!$C71,9,1) | M71: =MID('For utfylling'!$C71,10,1) | N71: =RIGHT('For utfylling'!C71,1) | O71: =IF(LEN('For utfylling'!C71)<11,1.1,SUM((D71*$D$1+E71*$E$1+F71*$F$1+G71*$G$1+H71*$H$1+I71*$I$1+J71*$J$1+K71*$K$1+L71*$L$1+M71*$M$1+N71*$N$1))/11) -> 1.1 | P71: =IF(LEN('For utfylling'!C71)<11,1.1,SUM((D71*$D$2+E71*$E$2+F71*$F$2+G71*$G$2+H71*$H$2+I71*$I$2+J71*$J$2+K71*$K$2+L71*$L$2+M71*$M$2))/11) -> 1.1 | S71: =VALUE(19&H71&I71) -> 19 | T71: =YEAR('For utfylling'!B71) -> 1900 | U71: =T71-S71 -> 1881 | V71: =IF(OR(U71='For utfylling'!F71,U71=('For utfylling'!F71+1),U71=('For utfylling'!F71-1)),1,0) -> 0
D72: =MID('For utfylling'!$C72,1,1) | E72: =MID('For utfylling'!$C72,2,1) | F72: =MID('For utfylling'!$C72,3,1) | G72: =MID('For utfylling'!$C72,4,1) | H72: =MID('For utfylling'!$C72,5,1) | I72: =MID('For utfylling'!$C72,6,1) | J72: =MID('For utfylling'!$C72,7,1) | K72: =MID('For utfylling'!$C72,8,1) | L72: =MID('For utfylling'!$C72,9,1) | M72: =MID('For utfylling'!$C72,10,1) | N72: =RIGHT('For utfylling'!C72,1) | O72: =IF(LEN('For utfylling'!C72)<11,1.1,SUM((D72*$D$1+E72*$E$1+F72*$F$1+G72*$G$1+H72*$H$1+I72*$I$1+J72*$J$1+K72*$K$1+L72*$L$1+M72*$M$1+N72*$N$1))/11) -> 1.1 | P72: =IF(LEN('For utfylling'!C72)<11,1.1,SUM((D72*$D$2+E72*$E$2+F72*$F$2+G72*$G$2+H72*$H$2+I72*$I$2+J72*$J$2+K72*$K$2+L72*$L$2+M72*$M$2))/11) -> 1.1 | S72: =VALUE(19&H72&I72) -> 19 | T72: =YEAR('For utfylling'!B72) -> 1900 | U72: =T72-S72 -> 1881 | V72: =IF(OR(U72='For utfylling'!F72,U72=('For utfylling'!F72+1),U72=('For utfylling'!F72-1)),1,0) -> 0
D73: =MID('For utfylling'!$C73,1,1) | E73: =MID('For utfylling'!$C73,2,1) | F73: =MID('For utfylling'!$C73,3,1) | G73: =MID('For utfylling'!$C73,4,1) | H73: =MID('For utfylling'!$C73,5,1) | I73: =MID('For utfylling'!$C73,6,1) | J73: =MID('For utfylling'!$C73,7,1) | K73: =MID('For utfylling'!$C73,8,1) | L73: =MID('For utfylling'!$C73,9,1) | M73: =MID('For utfylling'!$C73,10,1) | N73: =RIGHT('For utfylling'!C73,1) | O73: =IF(LEN('For utfylling'!C73)<11,1.1,SUM((D73*$D$1+E73*$E$1+F73*$F$1+G73*$G$1+H73*$H$1+I73*$I$1+J73*$J$1+K73*$K$1+L73*$L$1+M73*$M$1+N73*$N$1))/11) -> 1.1 | P73: =IF(LEN('For utfylling'!C73)<11,1.1,SUM((D73*$D$2+E73*$E$2+F73*$F$2+G73*$G$2+H73*$H$2+I73*$I$2+J73*$J$2+K73*$K$2+L73*$L$2+M73*$M$2))/11) -> 1.1 | S73: =VALUE(19&H73&I73) -> 19 | T73: =YEAR('For utfylling'!B73) -> 1900 | U73: =T73-S73 -> 1881 | V73: =IF(OR(U73='For utfylling'!F73,U73=('For utfylling'!F73+1),U73=('For utfylling'!F73-1)),1,0) -> 0
D74: =MID('For utfylling'!$C74,1,1) | E74: =MID('For utfylling'!$C74,2,1) | F74: =MID('For utfylling'!$C74,3,1) | G74: =MID('For utfylling'!$C74,4,1) | H74: =MID('For utfylling'!$C74,5,1) | I74: =MID('For utfylling'!$C74,6,1) | J74: =MID('For utfylling'!$C74,7,1) | K74: =MID('For utfylling'!$C74,8,1) | L74: =MID('For utfylling'!$C74,9,1) | M74: =MID('For utfylling'!$C74,10,1) | N74: =RIGHT('For utfylling'!C74,1) | O74: =IF(LEN('For utfylling'!C74)<11,1.1,SUM((D74*$D$1+E74*$E$1+F74*$F$1+G74*$G$1+H74*$H$1+I74*$I$1+J74*$J$1+K74*$K$1+L74*$L$1+M74*$M$1+N74*$N$1))/11) -> 1.1 | P74: =IF(LEN('For utfylling'!C74)<11,1.1,SUM((D74*$D$2+E74*$E$2+F74*$F$2+G74*$G$2+H74*$H$2+I74*$I$2+J74*$J$2+K74*$K$2+L74*$L$2+M74*$M$2))/11) -> 1.1 | S74: =VALUE(19&H74&I74) -> 19 | T74: =YEAR('For utfylling'!B74) -> 1900 | U74: =T74-S74 -> 1881 | V74: =IF(OR(U74='For utfylling'!F74,U74=('For utfylling'!F74+1),U74=('For utfylling'!F74-1)),1,0) -> 0
D75: =MID('For utfylling'!$C75,1,1) | E75: =MID('For utfylling'!$C75,2,1) | F75: =MID('For utfylling'!$C75,3,1) | G75: =MID('For utfylling'!$C75,4,1) | H75: =MID('For utfylling'!$C75,5,1) | I75: =MID('For utfylling'!$C75,6,1) | J75: =MID('For utfylling'!$C75,7,1) | K75: =MID('For utfylling'!$C75,8,1) | L75: =MID('For utfylling'!$C75,9,1) | M75: =MID('For utfylling'!$C75,10,1) | N75: =RIGHT('For utfylling'!C75,1) | O75: =IF(LEN('For utfylling'!C75)<11,1.1,SUM((D75*$D$1+E75*$E$1+F75*$F$1+G75*$G$1+H75*$H$1+I75*$I$1+J75*$J$1+K75*$K$1+L75*$L$1+M75*$M$1+N75*$N$1))/11) -> 1.1 | P75: =IF(LEN('For utfylling'!C75)<11,1.1,SUM((D75*$D$2+E75*$E$2+F75*$F$2+G75*$G$2+H75*$H$2+I75*$I$2+J75*$J$2+K75*$K$2+L75*$L$2+M75*$M$2))/11) -> 1.1 | S75: =VALUE(19&H75&I75) -> 19 | T75: =YEAR('For utfylling'!B75) -> 1900 | U75: =T75-S75 -> 1881 | V75: =IF(OR(U75='For utfylling'!F75,U75=('For utfylling'!F75+1),U75=('For utfylling'!F75-1)),1,0) -> 0
D76: =MID('For utfylling'!$C76,1,1) | E76: =MID('For utfylling'!$C76,2,1) | F76: =MID('For utfylling'!$C76,3,1) | G76: =MID('For utfylling'!$C76,4,1) | H76: =MID('For utfylling'!$C76,5,1) | I76: =MID('For utfylling'!$C76,6,1) | J76: =MID('For utfylling'!$C76,7,1) | K76: =MID('For utfylling'!$C76,8,1) | L76: =MID('For utfylling'!$C76,9,1) | M76: =MID('For utfylling'!$C76,10,1) | N76: =RIGHT('For utfylling'!C76,1) | O76: =IF(LEN('For utfylling'!C76)<11,1.1,SUM((D76*$D$1+E76*$E$1+F76*$F$1+G76*$G$1+H76*$H$1+I76*$I$1+J76*$J$1+K76*$K$1+L76*$L$1+M76*$M$1+N76*$N$1))/11) -> 1.1 | P76: =IF(LEN('For utfylling'!C76)<11,1.1,SUM((D76*$D$2+E76*$E$2+F76*$F$2+G76*$G$2+H76*$H$2+I76*$I$2+J76*$J$2+K76*$K$2+L76*$L$2+M76*$M$2))/11) -> 1.1 | S76: =VALUE(19&H76&I76) -> 19 | T76: =YEAR('For utfylling'!B76) -> 1900 | U76: =T76-S76 -> 1881 | V76: =IF(OR(U76='For utfylling'!F76,U76=('For utfylling'!F76+1),U76=('For utfylling'!F76-1)),1,0) -> 0
D77: =MID('For utfylling'!$C77,1,1) | E77: =MID('For utfylling'!$C77,2,1) | F77: =MID('For utfylling'!$C77,3,1) | G77: =MID('For utfylling'!$C77,4,1) | H77: =MID('For utfylling'!$C77,5,1) | I77: =MID('For utfylling'!$C77,6,1) | J77: =MID('For utfylling'!$C77,7,1) | K77: =MID('For utfylling'!$C77,8,1) | L77: =MID('For utfylling'!$C77,9,1) | M77: =MID('For utfylling'!$C77,10,1) | N77: =RIGHT('For utfylling'!C77,1) | O77: =IF(LEN('For utfylling'!C77)<11,1.1,SUM((D77*$D$1+E77*$E$1+F77*$F$1+G77*$G$1+H77*$H$1+I77*$I$1+J77*$J$1+K77*$K$1+L77*$L$1+M77*$M$1+N77*$N$1))/11) -> 1.1 | P77: =IF(LEN('For utfylling'!C77)<11,1.1,SUM((D77*$D$2+E77*$E$2+F77*$F$2+G77*$G$2+H77*$H$2+I77*$I$2+J77*$J$2+K77*$K$2+L77*$L$2+M77*$M$2))/11) -> 1.1 | S77: =VALUE(19&H77&I77) -> 19 | T77: =YEAR('For utfylling'!B77) -> 1900 | U77: =T77-S77 -> 1881 | V77: =IF(OR(U77='For utfylling'!F77,U77=('For utfylling'!F77+1),U77=('For utfylling'!F77-1)),1,0) -> 0
D78: =MID('For utfylling'!$C78,1,1) | E78: =MID('For utfylling'!$C78,2,1) | F78: =MID('For utfylling'!$C78,3,1) | G78: =MID('For utfylling'!$C78,4,1) | H78: =MID('For utfylling'!$C78,5,1) | I78: =MID('For utfylling'!$C78,6,1) | J78: =MID('For utfylling'!$C78,7,1) | K78: =MID('For utfylling'!$C78,8,1) | L78: =MID('For utfylling'!$C78,9,1) | M78: =MID('For utfylling'!$C78,10,1) | N78: =RIGHT('For utfylling'!C78,1) | O78: =IF(LEN('For utfylling'!C78)<11,1.1,SUM((D78*$D$1+E78*$E$1+F78*$F$1+G78*$G$1+H78*$H$1+I78*$I$1+J78*$J$1+K78*$K$1+L78*$L$1+M78*$M$1+N78*$N$1))/11) -> 1.1 | P78: =IF(LEN('For utfylling'!C78)<11,1.1,SUM((D78*$D$2+E78*$E$2+F78*$F$2+G78*$G$2+H78*$H$2+I78*$I$2+J78*$J$2+K78*$K$2+L78*$L$2+M78*$M$2))/11) -> 1.1 | S78: =VALUE(19&H78&I78) -> 19 | T78: =YEAR('For utfylling'!B78) -> 1900 | U78: =T78-S78 -> 1881 | V78: =IF(OR(U78='For utfylling'!F78,U78=('For utfylling'!F78+1),U78=('For utfylling'!F78-1)),1,0) -> 0
D79: =MID('For utfylling'!$C79,1,1) | E79: =MID('For utfylling'!$C79,2,1) | F79: =MID('For utfylling'!$C79,3,1) | G79: =MID('For utfylling'!$C79,4,1) | H79: =MID('For utfylling'!$C79,5,1) | I79: =MID('For utfylling'!$C79,6,1) | J79: =MID('For utfylling'!$C79,7,1) | K79: =MID('For utfylling'!$C79,8,1) | L79: =MID('For utfylling'!$C79,9,1) | M79: =MID('For utfylling'!$C79,10,1) | N79: =RIGHT('For utfylling'!C79,1) | O79: =IF(LEN('For utfylling'!C79)<11,1.1,SUM((D79*$D$1+E79*$E$1+F79*$F$1+G79*$G$1+H79*$H$1+I79*$I$1+J79*$J$1+K79*$K$1+L79*$L$1+M79*$M$1+N79*$N$1))/11) -> 1.1 | P79: =IF(LEN('For utfylling'!C79)<11,1.1,SUM((D79*$D$2+E79*$E$2+F79*$F$2+G79*$G$2+H79*$H$2+I79*$I$2+J79*$J$2+K79*$K$2+L79*$L$2+M79*$M$2))/11) -> 1.1 | S79: =VALUE(19&H79&I79) -> 19 | T79: =YEAR('For utfylling'!B79) -> 1900 | U79: =T79-S79 -> 1881 | V79: =IF(OR(U79='For utfylling'!F79,U79=('For utfylling'!F79+1),U79=('For utfylling'!F79-1)),1,0) -> 0
D80: =MID('For utfylling'!$C80,1,1) | E80: =MID('For utfylling'!$C80,2,1) | F80: =MID('For utfylling'!$C80,3,1) | G80: =MID('For utfylling'!$C80,4,1) | H80: =MID('For utfylling'!$C80,5,1) | I80: =MID('For utfylling'!$C80,6,1) | J80: =MID('For utfylling'!$C80,7,1) | K80: =MID('For utfylling'!$C80,8,1) | L80: =MID('For utfylling'!$C80,9,1) | M80: =MID('For utfylling'!$C80,10,1) | N80: =RIGHT('For utfylling'!C80,1) | O80: =IF(LEN('For utfylling'!C80)<11,1.1,SUM((D80*$D$1+E80*$E$1+F80*$F$1+G80*$G$1+H80*$H$1+I80*$I$1+J80*$J$1+K80*$K$1+L80*$L$1+M80*$M$1+N80*$N$1))/11) -> 1.1 | P80: =IF(LEN('For utfylling'!C80)<11,1.1,SUM((D80*$D$2+E80*$E$2+F80*$F$2+G80*$G$2+H80*$H$2+I80*$I$2+J80*$J$2+K80*$K$2+L80*$L$2+M80*$M$2))/11) -> 1.1 | S80: =VALUE(19&H80&I80) -> 19 | T80: =YEAR('For utfylling'!B80) -> 1900 | U80: =T80-S80 -> 1881 | V80: =IF(OR(U80='For utfylling'!F80,U80=('For utfylling'!F80+1),U80=('For utfylling'!F80-1)),1,0) -> 0
... D1500: =MID('For utfylling'!$C1500,1,1) | E1500: =MID('For utfylling'!$C1500,2,1) | F1500: =MID('For utfylling'!$C1500,3,1) | G1500: =MID('For utfylling'!$C1500,4,1) | H1500: =MID('For utfylling'!$C1500,5,1) | I1500: =MID('For utfylling'!$C1500,6,1) | J1500: =MID('For utfylling'!$C1500,7,1) | K1500: =MID('For utfylling'!$C1500,8,1) | L1500: =MID('For utfylling'!$C1500,9,1) | M1500: =MID('For utfylling'!$C1500,10,1) | N1500: =RIGHT('For utfylling'!C1500,1) | O1500: =IF(LEN('For utfylling'!C1500)<11,1.1,SUM((D1500*$D$1+E1500*$E$1+F1500*$F$1+G1500*$G$1+H1500*$H$1+I1500*$I$1+J1500*$J$1+K1500*$K$1+L1500*$L$1+M1500*$M$1+N1500*$N$1))/11) -> 1.1 | P1500: =IF(LEN('For utfylling'!C1500)<11,1.1,SUM((D1500*$D$2+E1500*$E$2+F1500*$F$2+G1500*$G$2+H1500*$H$2+I1500*$I$2+J1500*$J$2+K1500*$K$2+L1500*$L$2+M1500*$M$2))/11) -> 1.1 | S1500: =VALUE(19&H1500&I1500) -> 19 | T1500: =YEAR('For utfylling'!B1500) -> 1900 | U1500: =T1500-S1500 -> 1881 | V1500: =IF(OR(U1500='For utfylling'!F1500,U1500=('For utfylling'!F1500+1),U1500=('For utfylling'!F1500-1)),1,0) -> 0
